BEGIN:VCALENDAR
VERSION:2.0
PRODID:icalendar-ruby
CALSCALE:GREGORIAN
METHOD:PUBLISH
BEGIN:VEVENT
DTSTAMP:20260423T200843Z
UID:102-288406@stlukeithaca.org
DTSTART:20260424T213500Z
DTEND:20260424T233000Z
CLASS:PUBLIC
CREATED:20260423T121425
DESCRIPTION:
LAST-MODIFIED:20260423T121425
LOCATION:
SUMMARY:Ithaca Welcomes Refugees Dinner
URL;VALUE=URI:https://stlukeithaca.org/events/ithaca-welcomes-refugees-dinn
 er/2026-04-24
END:VEVENT
END:VCALENDAR
